BEGIN:VCALENDAR
VERSION:2.0
PRODID:-//Village of South Barrington, Illinois 60010 - ECPv6.15.20//NONSGML v1.0//EN
CALSCALE:GREGORIAN
METHOD:PUBLISH
X-ORIGINAL-URL:https://southbarrington.org
X-WR-CALDESC:Events for Village of South Barrington, Illinois 60010
REFRESH-INTERVAL;VALUE=DURATION:PT1H
X-Robots-Tag:noindex
X-PUBLISHED-TTL:PT1H
BEGIN:VTIMEZONE
TZID:America/Chicago
BEGIN:DAYLIGHT
TZOFFSETFROM:-0600
TZOFFSETTO:-0500
TZNAME:CDT
DTSTART:20240310T080000
END:DAYLIGHT
BEGIN:STANDARD
TZOFFSETFROM:-0500
TZOFFSETTO:-0600
TZNAME:CST
DTSTART:20241103T070000
END:STANDARD
BEGIN:DAYLIGHT
TZOFFSETFROM:-0600
TZOFFSETTO:-0500
TZNAME:CDT
DTSTART:20250309T080000
END:DAYLIGHT
BEGIN:STANDARD
TZOFFSETFROM:-0500
TZOFFSETTO:-0600
TZNAME:CST
DTSTART:20251102T070000
END:STANDARD
BEGIN:DAYLIGHT
TZOFFSETFROM:-0600
TZOFFSETTO:-0500
TZNAME:CDT
DTSTART:20260308T080000
END:DAYLIGHT
BEGIN:STANDARD
TZOFFSETFROM:-0500
TZOFFSETTO:-0600
TZNAME:CST
DTSTART:20261101T070000
END:STANDARD
BEGIN:DAYLIGHT
TZOFFSETFROM:-0600
TZOFFSETTO:-0500
TZNAME:CDT
DTSTART:20270314T080000
END:DAYLIGHT
BEGIN:STANDARD
TZOFFSETFROM:-0500
TZOFFSETTO:-0600
TZNAME:CST
DTSTART:20271107T070000
END:STANDARD
END:VTIMEZONE
BEGIN:VEVENT
DTSTART;TZID=America/Chicago:20260406T133000
DTEND;TZID=America/Chicago:20260406T153000
DTSTAMP:20260420T064318
CREATED:20260108T205823Z
LAST-MODIFIED:20260108T205823Z
UID:10001943-1775482200-1775489400@southbarrington.org
SUMMARY:Finance Committee
DESCRIPTION:The Finance Committee meetings are held on the Monday prior to the Regular Village Board meeting at 3:30 p.m.\, unless otherwise noticed\, and are open to the public. The agenda and any changes made to this meeting will be noticed to the public 48 hours in advance\, per 5 ILCS 120/ Open Meetings Act. The Village of South Barrington recognizes its obligation to provide equal access to those individuals with disabilities. Please contact Makayla Terfehn at (847) 381-7510 ext. 302 prior to the meeting with any special requests for reasonable accommodation.
URL:https://southbarrington.org/event/finance-committee-6/
LOCATION:Village of South Barrington\, 30 S Barrington Road\, South Barrington\, IL\, 60010
CATEGORIES:Finance Committee,Meetings
ORGANIZER;CN="Village of South Barrington":MAILTO:mterfehn@southbarrington.org
END:VEVENT
BEGIN:VEVENT
DTSTART;TZID=America/Chicago:20260309T133000
DTEND;TZID=America/Chicago:20260309T153000
DTSTAMP:20260420T064318
CREATED:20260107T203044Z
LAST-MODIFIED:20260107T203318Z
UID:10001934-1773063000-1773070200@southbarrington.org
SUMMARY:Finance Committee
DESCRIPTION:The Finance Committee meetings are held on the Monday prior to the Regular Village Board meeting at 3:30 p.m.\, unless otherwise noticed\, and are open to the public. The agenda and any changes made to this meeting will be noticed to the public 48 hours in advance\, per 5 ILCS 120/ Open Meetings Act. The Village of South Barrington recognizes its obligation to provide equal access to those individuals with disabilities. Please contact Makayla Terfehn at (847) 381-7510 ext. 302 prior to the meeting with any special requests for reasonable accommodation.
URL:https://southbarrington.org/event/finance-committee-5/
LOCATION:Village of South Barrington\, 30 S Barrington Road\, South Barrington\, IL\, 60010
CATEGORIES:Finance Committee,Meetings
ORGANIZER;CN="Village of South Barrington":MAILTO:mterfehn@southbarrington.org
END:VEVENT
BEGIN:VEVENT
DTSTART;TZID=America/Chicago:20260224T150000
DTEND;TZID=America/Chicago:20260224T170000
DTSTAMP:20260420T064318
CREATED:20260220T193547Z
LAST-MODIFIED:20260220T193547Z
UID:10001972-1771945200-1771952400@southbarrington.org
SUMMARY:Finance Committee
DESCRIPTION:The Finance Committee meetings are held on the Monday prior to the Regular Village Board meeting at 3:30 p.m.\, unless otherwise noticed\, and are open to the public. The agenda and any changes made to this meeting will be noticed to the public 48 hours in advance\, per 5 ILCS 120/ Open Meetings Act. The Village of South Barrington recognizes its obligation to provide equal access to those individuals with disabilities. Please contact Makayla Terfehn at (847) 381-7510 ext. 302 prior to the meeting with any special requests for reasonable accommodation.
URL:https://southbarrington.org/event/finance-committee-9/
LOCATION:Village of South Barrington\, 30 S Barrington Road\, South Barrington\, IL\, 60010
CATEGORIES:Finance Committee,Meetings
ORGANIZER;CN="Village of South Barrington":MAILTO:mterfehn@southbarrington.org
END:VEVENT
BEGIN:VEVENT
DTSTART;TZID=America/Chicago:20260209T133000
DTEND;TZID=America/Chicago:20260209T153000
DTSTAMP:20260420T064318
CREATED:20260105T215326Z
LAST-MODIFIED:20260210T151738Z
UID:10001927-1770643800-1770651000@southbarrington.org
SUMMARY:Finance Committee (CANCELLED)
DESCRIPTION:*February 9th Finance meeting has been cancelled. Next scheduled Finance meeting is March 9th. \nThe Finance Committee meetings are held on the Monday prior to the Regular Village Board meeting at 3:30 p.m.\, unless otherwise noticed\, and are open to the public. The agenda and any changes made to this meeting will be noticed to the public 48 hours in advance\, per 5 ILCS 120/ Open Meetings Act. The Village of South Barrington recognizes its obligation to provide equal access to those individuals with disabilities. Please contact Makayla Terfehn at (847) 381-7510 ext. 302 prior to the meeting with any special requests for reasonable accommodation.
URL:https://southbarrington.org/event/finance-committee-4/
LOCATION:Village of South Barrington\, 30 S Barrington Road\, South Barrington\, IL\, 60010
CATEGORIES:Finance Committee,Meetings
ORGANIZER;CN="Village of South Barrington":MAILTO:mterfehn@southbarrington.org
END:VEVENT
BEGIN:VEVENT
DTSTART;TZID=America/Chicago:20251008T143000
DTEND;TZID=America/Chicago:20251008T153000
DTSTAMP:20260420T064318
CREATED:20250908T205036Z
LAST-MODIFIED:20251006T132134Z
UID:10001862-1759933800-1759937400@southbarrington.org
SUMMARY:Finance Committee
DESCRIPTION:The Finance Committee meetings are held on the Monday prior to the Regular Village Board meeting at 3:30 p.m.\, unless otherwise noticed\, and are open to the public. The agenda and any changes made to this meeting will be noticed to the public 48 hours in advance\, per 5 ILCS 120/ Open Meetings Act. The Village of South Barrington recognizes its obligation to provide equal access to those individuals with disabilities. Please contact Makayla Terfehn  at (847) 381-7510 ext. 302 prior to the meeting with any special requests for reasonable accommodation.
URL:https://southbarrington.org/event/finance-committee-2/
LOCATION:Village of South Barrington\, 30 S Barrington Road\, South Barrington\, IL\, 60010
CATEGORIES:Finance Committee,Meetings
ORGANIZER;CN="Village of South Barrington":MAILTO:mterfehn@southbarrington.org
END:VEVENT
BEGIN:VEVENT
DTSTART;TZID=America/Chicago:20250908T143000
DTEND;TZID=America/Chicago:20250908T163000
DTSTAMP:20260420T064318
CREATED:20250908T201921Z
LAST-MODIFIED:20250908T205808Z
UID:10001852-1757341800-1757349000@southbarrington.org
SUMMARY:Finance Committee
DESCRIPTION:The Finance Committee meetings are held on the Monday prior to the Regular Village Board meeting at 3:30 p.m.\, unless otherwise noticed\, and are open to the public. The agenda and any changes made to this meeting will be noticed to the public 48 hours in advance\, per 5 ILCS 120/ Open Meetings Act. The Village of South Barrington recognizes its obligation to provide equal access to those individuals with disabilities. Please contact Makayla Terfehn at (847)381-7510 ext. 302 prior to the meeting with any special requests for reasonable accommodation. \nAgenda
URL:https://southbarrington.org/event/finance-committee/
LOCATION:IL
CATEGORIES:Finance Committee,Meetings
ORGANIZER;CN="Village of South Barrington":MAILTO:mterfehn@southbarrington.org
END:VEVENT
END:VCALENDAR